BEGIN:VCALENDAR
VERSION:2.0
PRODID:-//Lustgarten Foundation: Pancreatic Cancer Research - ECPv6.15.20//NONSGML v1.0//EN
CALSCALE:GREGORIAN
METHOD:PUBLISH
X-WR-CALNAME:Lustgarten Foundation: Pancreatic Cancer Research
X-ORIGINAL-URL:https://lustgarten.org
X-WR-CALDESC:Events for Lustgarten Foundation: Pancreatic Cancer Research
REFRESH-INTERVAL;VALUE=DURATION:PT1H
X-Robots-Tag:noindex
X-PUBLISHED-TTL:PT1H
BEGIN:VTIMEZONE
TZID:America/New_York
BEGIN:DAYLIGHT
TZOFFSETFROM:-0500
TZOFFSETTO:-0400
TZNAME:EDT
DTSTART:20220313T070000
END:DAYLIGHT
BEGIN:STANDARD
TZOFFSETFROM:-0400
TZOFFSETTO:-0500
TZNAME:EST
DTSTART:20221106T060000
END:STANDARD
BEGIN:DAYLIGHT
TZOFFSETFROM:-0500
TZOFFSETTO:-0400
TZNAME:EDT
DTSTART:20230312T070000
END:DAYLIGHT
BEGIN:STANDARD
TZOFFSETFROM:-0400
TZOFFSETTO:-0500
TZNAME:EST
DTSTART:20231105T060000
END:STANDARD
BEGIN:DAYLIGHT
TZOFFSETFROM:-0500
TZOFFSETTO:-0400
TZNAME:EDT
DTSTART:20240310T070000
END:DAYLIGHT
BEGIN:STANDARD
TZOFFSETFROM:-0400
TZOFFSETTO:-0500
TZNAME:EST
DTSTART:20241103T060000
END:STANDARD
BEGIN:DAYLIGHT
TZOFFSETFROM:-0500
TZOFFSETTO:-0400
TZNAME:EDT
DTSTART:20250309T070000
END:DAYLIGHT
BEGIN:STANDARD
TZOFFSETFROM:-0400
TZOFFSETTO:-0500
TZNAME:EST
DTSTART:20251102T060000
END:STANDARD
END:VTIMEZONE
BEGIN:VTIMEZONE
TZID:UTC
BEGIN:STANDARD
TZOFFSETFROM:+0000
TZOFFSETTO:+0000
TZNAME:UTC
DTSTART:20220101T000000
END:STANDARD
END:VTIMEZONE
BEGIN:VEVENT
DTSTART;VALUE=DATE:20240518
DTEND;VALUE=DATE:20240519
DTSTAMP:20260421T095844
CREATED:20240109T150200Z
LAST-MODIFIED:20240110T175028Z
UID:17384-1715990400-1716076799@lustgarten.org
SUMMARY:Milford Walk for Pancreatic Cancer Research
DESCRIPTION:
URL:https://hope.lustgarten.org/event/milford/home#new_tab
END:VEVENT
BEGIN:VEVENT
DTSTART;VALUE=DATE:20240421
DTEND;VALUE=DATE:20240422
DTSTAMP:20260421T095844
CREATED:20240119T164515Z
LAST-MODIFIED:20240201T171712Z
UID:17407-1713657600-1713743999@lustgarten.org
SUMMARY:New York City Walk for Pancreatic Cancer Research
DESCRIPTION:
URL:https://lustgarten.org/newyorkcity#new_tab
LOCATION:Pier 84 Hudson River Park\, 555 12th Avenue\, New York\, NY\, United States
END:VEVENT
BEGIN:VEVENT
DTSTART;VALUE=DATE:20240414
DTEND;VALUE=DATE:20240415
DTSTAMP:20260421T095844
CREATED:20240108T141726Z
LAST-MODIFIED:20240108T141726Z
UID:17379-1713052800-1713139199@lustgarten.org
SUMMARY:Westchester Walk for Pancreatic Cancer Research
DESCRIPTION:
URL:https://hope.lustgarten.org/event/westchester/home#new_tab
END:VEVENT
BEGIN:VEVENT
DTSTART;VALUE=DATE:20240323
DTEND;VALUE=DATE:20240324
DTSTAMP:20260421T095844
CREATED:20240105T155221Z
LAST-MODIFIED:20240105T155221Z
UID:17377-1711152000-1711238399@lustgarten.org
SUMMARY:Westlake Village Walk for Pancreatic Cancer Research
DESCRIPTION:
URL:https://hope.lustgarten.org/event/westlake-village/home#new_tab
END:VEVENT
BEGIN:VEVENT
DTSTART;VALUE=DATE:20240317
DTEND;VALUE=DATE:20240318
DTSTAMP:20260421T095844
CREATED:20240109T142515Z
LAST-MODIFIED:20240119T164603Z
UID:17383-1710633600-1710719999@lustgarten.org
SUMMARY:Atlanta Walk for Pancreatic Cancer Research
DESCRIPTION:
URL:https://lustgarten.org/atlanta#new_tab
LOCATION:Porsche Experience Center\, 1 Porsche Drive\, Atlanta\, GA\, United States
END:VEVENT
BEGIN:VEVENT
DTSTART;VALUE=DATE:20240303
DTEND;VALUE=DATE:20240304
DTSTAMP:20260421T095844
CREATED:20221130T194512Z
LAST-MODIFIED:20240201T171759Z
UID:16077-1709424000-1709510399@lustgarten.org
SUMMARY:South Florida Walk for Pancreatic Cancer Research
DESCRIPTION:
URL:https://hope.lustgarten.org/event/south-florida#new_tab
LOCATION:Dreher Park South\, 5701 Dreher Trail S\, West Palm Beach\, FL
END:VEVENT
BEGIN:VEVENT
DTSTART;VALUE=DATE:20231104
DTEND;VALUE=DATE:20231105
DTSTAMP:20260421T095844
CREATED:20230213T193440Z
LAST-MODIFIED:20230213T193440Z
UID:16356-1699056000-1699142399@lustgarten.org
SUMMARY:San Antonio Walk for Pancreatic Cancer Research
DESCRIPTION:
URL:https://events.lustgarten.org/event/san-antonio-walk-for-pancreatic-cancer-research/e466027#new_tab
END:VEVENT
BEGIN:VEVENT
DTSTART;VALUE=DATE:20231104
DTEND;VALUE=DATE:20231105
DTSTAMP:20260421T095844
CREATED:20230202T000906Z
LAST-MODIFIED:20230202T000906Z
UID:16327-1699056000-1699142399@lustgarten.org
SUMMARY:Greater Philadelphia Walk for Pancreatic Cancer Research
DESCRIPTION:
URL:https://events.lustgarten.org/event/greater-philadelphia-walk-for-pancreatic-cancer-research/e464326#new_tab
LOCATION:Cooper River Park Stadium\, 5300 North Park Drive\, Pennsauken\, NJ\, 08109\, United States
END:VEVENT
BEGIN:VEVENT
DTSTART;TZID=America/New_York:20231022T093000
DTEND;TZID=America/New_York:20231022T170000
DTSTAMP:20260421T095844
CREATED:20230804T165934Z
LAST-MODIFIED:20230804T165934Z
UID:16936-1697967000-1697994000@lustgarten.org
SUMMARY:The Elizabeth Ferris Memorial 5K Run/Walk
DESCRIPTION:
URL:https://events.elitefeats.com/23ferrismemorial?fbclid=IwAR2VowzGmuZlOaHjNSmswQxsO9OtEXQN26GX8IoSPYdN1aUx3uYJGZ7D8b4_aem_Af7kREnhJVM-xKG0eDeEBjpO46Jwpq3QAuAHcuRriWLlc0nu5k_XMHNwy1TjTUw20iU#new_tab
LOCATION:Heckscher Park\, East Islip
END:VEVENT
BEGIN:VEVENT
DTSTART;VALUE=DATE:20231021
DTEND;VALUE=DATE:20231022
DTSTAMP:20260421T095844
CREATED:20230210T222329Z
LAST-MODIFIED:20230210T222329Z
UID:16352-1697846400-1697932799@lustgarten.org
SUMMARY:Hannibal Walk for Pancreatic Cancer Research
DESCRIPTION:
URL:https://events.lustgarten.org/event/hannibal-walk-for-pancreatic-cancer-research/e466474#new_tab
LOCATION:Sodalis Nature Preserve\, 800 Ely Street\, Hannibal\, MO\, 63401\, United States
END:VEVENT
BEGIN:VEVENT
DTSTART;VALUE=DATE:20231021
DTEND;VALUE=DATE:20231022
DTSTAMP:20260421T095844
CREATED:20230124T212428Z
LAST-MODIFIED:20230124T212428Z
UID:16251-1697846400-1697932799@lustgarten.org
SUMMARY:Hudson Valley Walk for Pancreatic Cancer Research
DESCRIPTION:
URL:https://events.lustgarten.org/event/hudson-valley-walk-for-pancreatic-cancer-research/e461641#new_tab
END:VEVENT
BEGIN:VEVENT
DTSTART;VALUE=DATE:20231015
DTEND;VALUE=DATE:20231016
DTSTAMP:20260421T095844
CREATED:20230221T201306Z
LAST-MODIFIED:20230221T201306Z
UID:16378-1697328000-1697414399@lustgarten.org
SUMMARY:Mechanicsburg Walk for Pancreatic Cancer Research
DESCRIPTION:
URL:https://events.lustgarten.org/event/mechanicsburg-walk-for-pancreatic-cancer-research/e466897#new_tab
END:VEVENT
BEGIN:VEVENT
DTSTART;VALUE=DATE:20231014
DTEND;VALUE=DATE:20231015
DTSTAMP:20260421T095844
CREATED:20230126T203124Z
LAST-MODIFIED:20230126T203124Z
UID:16296-1697241600-1697327999@lustgarten.org
SUMMARY:Boston Walk for Pancreatic Cancer Research
DESCRIPTION:
URL:https://events.lustgarten.org/event/boston-walk-for-pancreatic-cancer-research/e461993#new_tab
LOCATION:DCR’s Mothers Rest\, 165 William J Day Boulevard\, Boston\, MA\, 02127\, United States
END:VEVENT
BEGIN:VEVENT
DTSTART;VALUE=DATE:20231014
DTEND;VALUE=DATE:20231015
DTSTAMP:20260421T095844
CREATED:20230109T200431Z
LAST-MODIFIED:20230124T211513Z
UID:16186-1697241600-1697327999@lustgarten.org
SUMMARY:Denver Walk for Pancreatic Cancer Research
DESCRIPTION:
URL:https://events.lustgarten.org/event/denver-walk-for-pancreatic-cancer-research/e457384#new_tab
LOCATION:Sloan’s Lake Park\, 4001 W 17th Avenue\, Denver\, CO\, 80204\, United States
END:VEVENT
BEGIN:VEVENT
DTSTART;VALUE=DATE:20231007
DTEND;VALUE=DATE:20231008
DTSTAMP:20260421T095844
CREATED:20230224T220257Z
LAST-MODIFIED:20230224T220257Z
UID:16404-1696636800-1696723199@lustgarten.org
SUMMARY:Syracuse Walk for Pancreatic Cancer
DESCRIPTION:
URL:https://events.lustgarten.org/event/syracuse-walk-for-pancreatic-cancer-research/e470197#new_tab
LOCATION:Onondaga Lake Park – Willow Bay Picnic Area\, 3850 Long Branch Road\, Liverpool\, NY\, 13090\, United States
END:VEVENT
BEGIN:VEVENT
DTSTART;VALUE=DATE:20231007
DTEND;VALUE=DATE:20231008
DTSTAMP:20260421T095844
CREATED:20230124T212626Z
LAST-MODIFIED:20230929T205736Z
UID:16253-1696636800-1696723199@lustgarten.org
SUMMARY:New Brunswick Walk for Pancreatic Cancer Research
DESCRIPTION:
URL:https://events.lustgarten.org/event/new-brunswick-walk-for-pancreatic-cancer-research/e461675#new_tab
END:VEVENT
BEGIN:VEVENT
DTSTART;VALUE=DATE:20231001
DTEND;VALUE=DATE:20231002
DTSTAMP:20260421T095844
CREATED:20230104T194512Z
LAST-MODIFIED:20230104T194512Z
UID:16173-1696118400-1696204799@lustgarten.org
SUMMARY:Long Island Walk for Pancreatic Cancer Research
DESCRIPTION:
URL:https://events.lustgarten.org/event/long-island-walk-for-pancreatic-cancer-research/e457071#new_tab
LOCATION:Jones Beach State Park Field 5\, 1 Ocean Parkway\, Wantagh\, NY\, 11793\, United States
END:VEVENT
BEGIN:VEVENT
DTSTART;VALUE=DATE:20230924
DTEND;VALUE=DATE:20230925
DTSTAMP:20260421T095844
CREATED:20230621T170020Z
LAST-MODIFIED:20230621T170020Z
UID:16806-1695513600-1695599999@lustgarten.org
SUMMARY:2023 Life Time Chicago Half Marathon
DESCRIPTION:
URL:https://events.lustgarten.org/event/chicago-half-marathon/e495064
END:VEVENT
BEGIN:VEVENT
DTSTART;VALUE=DATE:20230924
DTEND;VALUE=DATE:20230925
DTSTAMP:20260421T095844
CREATED:20230512T184356Z
LAST-MODIFIED:20230512T184356Z
UID:16694-1695513600-1695599999@lustgarten.org
SUMMARY:Lehigh Valley Walk for Pancreatic Cancer Research
DESCRIPTION:
URL:https://events.lustgarten.org/event/lehigh-valley-walk-for-pancreatic-cancer-research/e488417#new_tab
LOCATION:Lehigh Parkway\, Lehigh Parkway E\,\, Allentown\, PA\, 18103\, United States
END:VEVENT
BEGIN:VEVENT
DTSTART;VALUE=DATE:20230923
DTEND;VALUE=DATE:20230924
DTSTAMP:20260421T095844
CREATED:20230817T142951Z
LAST-MODIFIED:20230817T142951Z
UID:16951-1695427200-1695513599@lustgarten.org
SUMMARY:Bob Kochka 5k
DESCRIPTION:
URL:https://runsignup.com/Race/NJ/Bloomingdale/FirefighterBobKochka5KRunWalk#new_tab
LOCATION:225 Glenwild Ave Bloomingdale\, NJ US 07403\, 225 Glenwild Ave\, Bloomingdale\, NJ\, 07403
END:VEVENT
BEGIN:VEVENT
DTSTART;VALUE=DATE:20230923
DTEND;VALUE=DATE:20230924
DTSTAMP:20260421T095844
CREATED:20230509T002351Z
LAST-MODIFIED:20230509T002433Z
UID:16688-1695427200-1695513599@lustgarten.org
SUMMARY:Brooklyn Walk for Pancreatic Cancer Research
DESCRIPTION:
URL:https://lustgarten.org/event/brooklyn-walk-for-research-2/
LOCATION:Marine Park (Carmine Carro Community Center)\, 3000 Fillmore Ave\, Brooklyn\, NY\, United States
END:VEVENT
BEGIN:VEVENT
DTSTART;VALUE=DATE:20230918
DTEND;VALUE=DATE:20230919
DTSTAMP:20260421T095844
CREATED:20230505T175314Z
LAST-MODIFIED:20230505T175314Z
UID:16667-1694995200-1695081599@lustgarten.org
SUMMARY:Tee'd Off at Cancer Golf Tournament
DESCRIPTION:
URL:https://events.lustgarten.org/event/teed-off-at-cancer-golf-tournament/e484979
END:VEVENT
BEGIN:VEVENT
DTSTART;VALUE=DATE:20230917
DTEND;VALUE=DATE:20230918
DTSTAMP:20260421T095844
CREATED:20230124T210701Z
LAST-MODIFIED:20230124T211443Z
UID:16246-1694908800-1694995199@lustgarten.org
SUMMARY:Cedar Rapids Walk for Pancreatic Cancer Research
DESCRIPTION:
URL:https://events.lustgarten.org/event/cedar-rapids-walk-for-pancreatic-cancer-research/e460215#new_tab
LOCATION:Thomas Park\, 335 Marion Boulevard\, Marion\, IA\, 52302\, United States
END:VEVENT
BEGIN:VEVENT
DTSTART;VALUE=DATE:20230916
DTEND;VALUE=DATE:20230917
DTSTAMP:20260421T095844
CREATED:20230615T184207Z
LAST-MODIFIED:20230615T184207Z
UID:16785-1694822400-1694908799@lustgarten.org
SUMMARY:Pound the Pavement NJ
DESCRIPTION:
URL:https://www.poundthepavementnj.org/#new_tab
LOCATION:Neptune\, NJ
END:VEVENT
BEGIN:VEVENT
DTSTART;VALUE=DATE:20230910
DTEND;VALUE=DATE:20230911
DTSTAMP:20260421T095844
CREATED:20230223T205257Z
LAST-MODIFIED:20230223T205257Z
UID:16402-1694304000-1694390399@lustgarten.org
SUMMARY:Paramus Walk for Pancreatic Cancer
DESCRIPTION:
URL:https://events.lustgarten.org/event/paramus-walk-for-pancreatic-cancer-research/e469739#new_tab
LOCATION:Bergen Community College\, 400 Paramus Road\, Paramus\, NJ\, 07652\, United States
END:VEVENT
BEGIN:VEVENT
DTSTART;VALUE=DATE:20230910
DTEND;VALUE=DATE:20230911
DTSTAMP:20260421T095844
CREATED:20230124T212527Z
LAST-MODIFIED:20230124T212527Z
UID:16252-1694304000-1694390399@lustgarten.org
SUMMARY:Staten Island Walk for Pancreatic Cancer Research
DESCRIPTION:
URL:https://events.lustgarten.org/event/staten-island-walk-for-pancreatic-cancer-research/e460491#new_tab
END:VEVENT
BEGIN:VEVENT
DTSTART;VALUE=DATE:20230910
DTEND;VALUE=DATE:20230911
DTSTAMP:20260421T095844
CREATED:20230124T212315Z
LAST-MODIFIED:20230124T212315Z
UID:16250-1694304000-1694390399@lustgarten.org
SUMMARY:Albany Walk for Pancreatic Cancer Research
DESCRIPTION:
URL:https://events.lustgarten.org/event/albany-walk-for-pancreatic-cancer-research/e460476#new_tab
END:VEVENT
BEGIN:VEVENT
DTSTART;TZID=America/New_York:20230909T100000
DTEND;TZID=America/New_York:20230909T170000
DTSTAMP:20260421T095844
CREATED:20230804T170519Z
LAST-MODIFIED:20230804T170519Z
UID:16938-1694253600-1694278800@lustgarten.org
SUMMARY:Port Jefferson Yacht Club Village Cup
DESCRIPTION:
URL:https://portjeffersonyachtclub.com/community/village-cup/#sponsor#new_tab
LOCATION:Port Jefferson Yacht Club Village Cup\, 1 Surf Avenue Pass Way\, Port Jefferson\, NY
END:VEVENT
BEGIN:VEVENT
DTSTART;TZID=America/New_York:20230819T090000
DTEND;TZID=America/New_York:20230819T170000
DTSTAMP:20260421T095844
CREATED:20230804T171551Z
LAST-MODIFIED:20230804T171551Z
UID:16940-1692435600-1692464400@lustgarten.org
SUMMARY:Christopher's Ride
DESCRIPTION:
URL:https://www.christophersride.com/#new_tab
LOCATION:Trout Park\, Elgin\, IL
END:VEVENT
BEGIN:VEVENT
DTSTART;TZID=America/New_York:20230809T080000
DTEND;TZID=America/New_York:20230813T170000
DTSTAMP:20260421T095844
CREATED:20230817T143349Z
LAST-MODIFIED:20230817T143349Z
UID:16953-1691568000-1691946000@lustgarten.org
SUMMARY:Purple Tuna Event
DESCRIPTION:
URL:https://www.purpletuna.org/#new_tab
LOCATION:Oaklands\, 365 Dune Road\, Hampton Bays\, NY\, 11946
END:VEVENT
END:VCALENDAR